BEGIN:VCALENDAR
VERSION:2.0
PRODID:-//Aaryan Cars - ECPv6.15.11//NONSGML v1.0//EN
CALSCALE:GREGORIAN
METHOD:PUBLISH
X-WR-CALNAME:Aaryan Cars
X-ORIGINAL-URL:https://fr.aaryancars.com
X-WR-CALDESC:Events for Aaryan Cars
REFRESH-INTERVAL;VALUE=DURATION:PT1H
X-Robots-Tag:noindex
X-PUBLISHED-TTL:PT1H
BEGIN:VTIMEZONE
TZID:UTC
BEGIN:STANDARD
TZOFFSETFROM:+0000
TZOFFSETTO:+0000
TZNAME:UTC
DTSTART:20170101T000000
END:STANDARD
END:VTIMEZONE
BEGIN:VEVENT
DTSTART;TZID=UTC:20220801T080000
DTEND;TZID=UTC:20221031T170000
DTSTAMP:20260426T005442
CREATED:20220801T094533Z
LAST-MODIFIED:20220811T101929Z
UID:6235-1659340800-1667235600@fr.aaryancars.com
SUMMARY:Hot Air Balooning Sri Lanka
DESCRIPTION:Hot Air Ballooning Sri Lanka schedule is below and these services are included package \nPick-Up\nTransfers from/to hotels in Dambulla\, Kandalama\, Sigiriya and Habarana \nHot Air Ballooning Sri Lanka experience begins by picking up from hotel. We collect you from your hotel approximately one hour before sunrise. Transport to and from your hotel is provided in our luxury company vehicles. \nBreakfast\nMeeting at Sri Lanka Balloon Take-Off Field in Kandalama\, Dambulla. \nBefore your flight\, you have an open buffet Sri Lankan breakfast at our take-off launch while you watch how we inflate the balloons. \nBoarding & Take-Off\nYour pilot will give you a safety briefing before take-off and tell you everything for a safe and enjoyable balloon ride. \nThen\, we start the flight by taking off slowly from Sri Lanka Balloon Take-Off Field near the lake. \n1-Hour Balloon Flight\nThe flight has a duration of 1 hour plus or minus 10 minutes\, depending on weather conditions and terrain. \nWe fly over the lakes\, tropical jungles\, beautiful birds\, friendly locals and the geographical beauties of Sri Lanka. \nLanding Ceremony\nAfter landing\, we celebrate in style with a traditional glass of Champagne\, Juice\, Water and Cake \nand your pilot hands out your personalized Sri Lanka Balloon Flight Certificate. \nAfter the ceremony our luxury minibuses will take you back to your hotel and from this moment on\, your Hot Air Ballooning Sri Lanka experience will be an unforgettable memory. \nStandard Flight (Adult) $210per person \nStandard Flight (Child) $160per person \nPrivate Flight $1470per couple \nIncludes \nHotel Transfers\nBreakfast\n1-Hour Balloon Flight\nCold Water on Board\nAfter Flight Celebration\nFlight Certificate\nInsurance
URL:https://fr.aaryancars.com/event/hot-air-balooning-sri-lanka/
ATTACH;FMTTYPE=image/jpeg:https://fr.aaryancars.com/wp-content/uploads/2022/08/HAB.jpg
END:VEVENT
BEGIN:VEVENT
DTSTART;VALUE=DATE:20220801
DTEND;VALUE=DATE:20230901
DTSTAMP:20260426T005442
CREATED:20220801T092956Z
LAST-MODIFIED:20220822T071718Z
UID:6232-1659312000-1693526399@fr.aaryancars.com
SUMMARY:Sri Lanka Safari - Yala National Park
DESCRIPTION:Safari Game Drives\n\n\nOur Safari Jeep Tours in Sanctuaries are planned during the optimum times to spot animals. Morning Safari Jeep Tours\, Afternoon Safari Jeep Tours\, 7 Hours Safari Jeep Tours and Full day Safari Jeep Tours maximizes the viewing opportunities by venturing in to deep down in Yala Jungle\, best for Leopard spotting. \nOur knowledgeable and disciplined Safari Jeep drivers in the area will arrange everything from the moment they pick you up at no additional charge from your hotel. Let them take care of purchasing tickets\, best tracks to traverse and your picnic meals\, all you have to do is enjoy a hassle free Safari Jeep Tour. \nAll our Safari Jeeps are the best of the town. Japanese Toyota Hilux and Toyota Land Cruisers 4×4 make fitted with 4×4 recovery options\, cushioned front facing seats\, first aid boxes\, and pop up windows. Our specialty is our Safari Jeep drivers who are well knowledgeable and experienced they will make your Safaris in National Parks a memorable one. As a Sri Lanka Tourism Development Authority licensed operator\, we do the service in responsible way. \n\n\n\n\n\n\n\n\n\n\nTours Includes\n\n\n\n\n\n\n\n\n\n\nFree hotel pick up and drop includes from Yala\, Tissamaharama\, Kirinda\, Palatupana\, Kataragama\, Weerawila and Hambantota areas. \n      If you are stayed in outside of the area don’t worry we can arrange the pickups and drop offs for an additional charge. \n\n\nYALA MORNING TOURMORNING 5:00 AM to 10:00 AM\n\n\n\nAll game drives in our customized luxury jeeps – All national park fees – Binoculars – Bottled Water – All taxes \n\n\n1 Person – 92 USD | 2 Person – 112 USD\n3 Person – 142 USD | 4 Person – 172 USD\n5 Person – 202 USD | 6 Person – 232 USD\n18.00 USD per CHILD (5 to 10 years)\n\n\nYALA AFTERNOON TOURAFTERNOON 2:00 PM to 7:00 PM\n\n\n\nAll game drives in our customized luxury jeeps – All national park fees – Binoculars – Bottled Water – All taxes \n\n\n1 Person – 92 USD | 2 Person – 112 USD\n3 Person – 142 USD | 4 Person – 172 USD\n5 Person – 202 USD | 6 Person – 232 USD\n18.00 USD per CHILD (5 to 10 years)\n\n\nYALA 7 HOURS MORNING TOURMORNING 5:00 AM TO 12:00 PM\n\n\n\nAll game drives in our customized luxury jeeps – All national park fees – Binoculars – Bottled Water – All taxes \n\n\n1 Person – 110 USD | 2 Person – 145 USD\n3 Person – 175 USD | 4 Person – 205 USD\n5 Person – 235 USD | 6 Person – 265 USD\n24.00 USD per CHILD (5 to 10 years)\n\n\nYALA 7 HOURS AFTERNOON TOURAFTERNOON 12:00 PM TO 7:00 PM\n\n\n\nAll game drives in our customized luxury jeeps – All national park fees – Binoculars – Bottled Water – All taxes \n\n\n1 Person – 110 USD | 2 Person – 145 USD\n3 Person – 175 USD | 4 Person – 205 USD\n5 Person – 235 USD | 6 Person – 265 USD\n24.00 USD per CHILD (5 to 10 years)\n\n\nYALA FULL DAY TOURMORNING 5:00 AM to 7:00 PM\n\n\n\nAll game drives in our customized luxury jeeps – All national park fees – Binoculars – Bottled Water – All taxes \n\n\n1 Person – 150 USD | 2 Person – 190 USD\n3 Person – 230 USD | 4 Person – 270 USD\n5 Person – 310 USD | 6 Person – 350 USD\n24.00 USD per CHILD (5 to 10 years)\n\n  \n\nBELOW 4 YEARS KIDS FREE OF CHARGE\nPicnic Breakfast – 8.00 USD\nPicnic Lunch – 10.00 USD\n\n 
URL:https://fr.aaryancars.com/event/sri-lanka-safari-yala-national-park/
ATTACH;FMTTYPE=image/jpeg:https://fr.aaryancars.com/wp-content/uploads/2022/08/Yala.jpg
END:VEVENT
BEGIN:VEVENT
DTSTART;TZID=UTC:20181229T080000
DTEND;TZID=UTC:20291201T140000
DTSTAMP:20260426T005442
CREATED:20140626T065436Z
LAST-MODIFIED:20201127T062525Z
UID:630-1546070400-1890828000@fr.aaryancars.com
SUMMARY:Mountain Trekking
DESCRIPTION:Nunc auctor elit sed dignissim mattis. Duis malesuada semper ipsum\, non posuere est accumsan congue. Suspendisse id fringilla erat\, ac sodales est. Fusce et neque sodales libero mollis scelerisque non a purus. \nPhasellus a odio turpis. Praesent quis sagittis leo\, at elementum ipsum. Fusce et ante in est sagittis convallis. Duis volutpat\, orci tristique eleifend sollicitudin\, tellus odio molestie.
URL:https://fr.aaryancars.com/event/mountain-trekking/
LOCATION:Palm Tree Beach\, 505 Palm Tree Road\, Jacksonville Beach\, FL\, 32250\, United States
CATEGORIES:Annual Meet
ATTACH;FMTTYPE=image/jpeg:https://fr.aaryancars.com/wp-content/uploads/2014/06/gallery-img2.jpg
ORGANIZER;CN="Ram":MAILTO:ram@iamdesigning.com
END:VEVENT
BEGIN:VEVENT
DTSTART;TZID=UTC:20181225T100000
DTEND;TZID=UTC:20291201T220000
DTSTAMP:20260426T005442
CREATED:20140626T070038Z
LAST-MODIFIED:20201127T062539Z
UID:634-1545732000-1890856800@fr.aaryancars.com
SUMMARY:Surfing In Sea
DESCRIPTION:Nunc commodo ipsum in diam pulvinar\, laoreet tempor tellus molestie. Maecenas blandit sem turpis\, nec luctus nunc consequat a. Vestibulum vel justo nunc. In pulvinar tempor malesuada. Curabitur at orci ac leo pretium sagittis. \nNam molestie sapien in dolor pretium\, porttitor fermentum dolor eleifend. Nulla eget dui commodo\, interdum metus nec\, tempor felis. Quisque malesuada\, erat non consectetur.
URL:https://fr.aaryancars.com/event/surfing-in-sea/
LOCATION:Palm Tree Beach\, 505 Palm Tree Road\, Jacksonville Beach\, FL\, 32250\, United States
CATEGORIES:Annual Meet,Celebration
ATTACH;FMTTYPE=image/jpeg:https://fr.aaryancars.com/wp-content/uploads/2014/06/blog-img1.jpg
ORGANIZER;CN="Ram":MAILTO:ram@iamdesigning.com
END:VEVENT
END:VCALENDAR